BEGIN:VCALENDAR
VERSION:2.0
PRODID:-//Contralorias MX - ECPv6.15.20//NONSGML v1.0//EN
CALSCALE:GREGORIAN
METHOD:PUBLISH
X-ORIGINAL-URL:https://comisioncontralores.gob.mx/2023
X-WR-CALDESC:Eventos para Contralorias MX
REFRESH-INTERVAL;VALUE=DURATION:PT1H
X-Robots-Tag:noindex
X-PUBLISHED-TTL:PT1H
BEGIN:VTIMEZONE
TZID:America/Denver
BEGIN:DAYLIGHT
TZOFFSETFROM:-0700
TZOFFSETTO:-0600
TZNAME:MDT
DTSTART:20230312T090000
END:DAYLIGHT
BEGIN:STANDARD
TZOFFSETFROM:-0600
TZOFFSETTO:-0700
TZNAME:MST
DTSTART:20231105T080000
END:STANDARD
BEGIN:DAYLIGHT
TZOFFSETFROM:-0700
TZOFFSETTO:-0600
TZNAME:MDT
DTSTART:20240310T090000
END:DAYLIGHT
BEGIN:STANDARD
TZOFFSETFROM:-0600
TZOFFSETTO:-0700
TZNAME:MST
DTSTART:20241103T080000
END:STANDARD
BEGIN:DAYLIGHT
TZOFFSETFROM:-0700
TZOFFSETTO:-0600
TZNAME:MDT
DTSTART:20250309T090000
END:DAYLIGHT
BEGIN:STANDARD
TZOFFSETFROM:-0600
TZOFFSETTO:-0700
TZNAME:MST
DTSTART:20251102T080000
END:STANDARD
END:VTIMEZONE
BEGIN:VEVENT
DTSTART;VALUE=DATE:20241024
DTEND;VALUE=DATE:20241026
DTSTAMP:20260423T031409
CREATED:20240131T151759Z
LAST-MODIFIED:20240131T151759Z
UID:3283-1729728000-1729900799@comisioncontralores.gob.mx
SUMMARY:Segunda Reunión Ordinaria de la Región Sureste
DESCRIPTION:Cozumel\, Quintana Roo
URL:https://comisioncontralores.gob.mx/2023/evento/segunda-reunion-ordinaria-de-la-region-sureste/
LOCATION:Q.ROO
END:VEVENT
END:VCALENDAR