BEGIN:VCALENDAR
VERSION:2.0
PRODID:-//Contralorias MX - ECPv6.15.20//NONSGML v1.0//EN
CALSCALE:GREGORIAN
METHOD:PUBLISH
X-WR-CALNAME:Contralorias MX
X-ORIGINAL-URL:https://comisioncontralores.gob.mx/2023
X-WR-CALDESC:Eventos para Contralorias MX
REFRESH-INTERVAL;VALUE=DURATION:PT1H
X-Robots-Tag:noindex
X-PUBLISHED-TTL:PT1H
BEGIN:VTIMEZONE
TZID:America/Denver
BEGIN:DAYLIGHT
TZOFFSETFROM:-0700
TZOFFSETTO:-0600
TZNAME:MDT
DTSTART:20230312T090000
END:DAYLIGHT
BEGIN:STANDARD
TZOFFSETFROM:-0600
TZOFFSETTO:-0700
TZNAME:MST
DTSTART:20231105T080000
END:STANDARD
BEGIN:DAYLIGHT
TZOFFSETFROM:-0700
TZOFFSETTO:-0600
TZNAME:MDT
DTSTART:20240310T090000
END:DAYLIGHT
BEGIN:STANDARD
TZOFFSETFROM:-0600
TZOFFSETTO:-0700
TZNAME:MST
DTSTART:20241103T080000
END:STANDARD
BEGIN:DAYLIGHT
TZOFFSETFROM:-0700
TZOFFSETTO:-0600
TZNAME:MDT
DTSTART:20250309T090000
END:DAYLIGHT
BEGIN:STANDARD
TZOFFSETFROM:-0600
TZOFFSETTO:-0700
TZNAME:MST
DTSTART:20251102T080000
END:STANDARD
END:VTIMEZONE
BEGIN:VEVENT
DTSTART;VALUE=DATE:20241113
DTEND;VALUE=DATE:20241116
DTSTAMP:20260423T014428
CREATED:20240131T152113Z
LAST-MODIFIED:20240131T152113Z
UID:3288-1731456000-1731715199@comisioncontralores.gob.mx
SUMMARY:LXXIII Reunión Nacional de la CPCE-F (Asamblea Plenaria)
DESCRIPTION:Puebla\, Puebla
URL:https://comisioncontralores.gob.mx/2023/evento/lxxiii-reunion-nacional-de-la-cpce-f-asamblea-plenaria/
LOCATION:PUE
END:VEVENT
END:VCALENDAR