BEGIN:VCALENDAR
VERSION:2.0
PRODID:-//Contralorias MX - ECPv6.15.20//NONSGML v1.0//EN
CALSCALE:GREGORIAN
METHOD:PUBLISH
X-ORIGINAL-URL:https://comisioncontralores.gob.mx/2023
X-WR-CALDESC:Eventos para Contralorias MX
REFRESH-INTERVAL;VALUE=DURATION:PT1H
X-Robots-Tag:noindex
X-PUBLISHED-TTL:PT1H
BEGIN:VTIMEZONE
TZID:America/Denver
BEGIN:DAYLIGHT
TZOFFSETFROM:-0700
TZOFFSETTO:-0600
TZNAME:MDT
DTSTART:20240310T090000
END:DAYLIGHT
BEGIN:STANDARD
TZOFFSETFROM:-0600
TZOFFSETTO:-0700
TZNAME:MST
DTSTART:20241103T080000
END:STANDARD
BEGIN:DAYLIGHT
TZOFFSETFROM:-0700
TZOFFSETTO:-0600
TZNAME:MDT
DTSTART:20250309T090000
END:DAYLIGHT
BEGIN:STANDARD
TZOFFSETFROM:-0600
TZOFFSETTO:-0700
TZNAME:MST
DTSTART:20251102T080000
END:STANDARD
BEGIN:DAYLIGHT
TZOFFSETFROM:-0700
TZOFFSETTO:-0600
TZNAME:MDT
DTSTART:20260308T090000
END:DAYLIGHT
BEGIN:STANDARD
TZOFFSETFROM:-0600
TZOFFSETTO:-0700
TZNAME:MST
DTSTART:20261101T080000
END:STANDARD
END:VTIMEZONE
BEGIN:VEVENT
DTSTART;VALUE=DATE:20250508
DTEND;VALUE=DATE:20250510
DTSTAMP:20260422T165700
CREATED:20250228T142145Z
LAST-MODIFIED:20250228T145128Z
UID:4252-1746662400-1746835199@comisioncontralores.gob.mx
SUMMARY:Primera Reunión Ordinaria de la Región Sureste
DESCRIPTION:Tuxtla Gutiérrez\, Chiapas
URL:https://comisioncontralores.gob.mx/2023/evento/primera-reunion-ordinaria-de-la-region-sureste-3/
END:VEVENT
BEGIN:VEVENT
DTSTART;VALUE=DATE:20250522
DTEND;VALUE=DATE:20250524
DTSTAMP:20260422T165700
CREATED:20250228T142813Z
LAST-MODIFIED:20250228T145216Z
UID:4254-1747872000-1748044799@comisioncontralores.gob.mx
SUMMARY:Primera Reunión Ordinaria de la Región Centro Golfo Istmo
DESCRIPTION:Tlaxcala\, Tlax.
URL:https://comisioncontralores.gob.mx/2023/evento/primera-reunion-ordinaria-de-la-region-centro-golfo-istmo-3/
END:VEVENT
END:VCALENDAR